BEGIN:VCALENDAR
VERSION:2.0
PRODID:-//SyracuseArts.net
METHOD:PUBLISH
BEGIN:VEVENT
UID:20260424100451-syracusearts.net
DTSTAMP:20260424T100451Z
DTSTART:20260516T160000Z
DTEND:20260516T220000Z
SUMMARY:On Love\nBrewer Harris Projects\n
LOCATION:138 Bank Alley (University Building)
DESCRIPTION:For complete information, visit http://syracusearts.net/calendar/event.cfm?PerfID=156017
URL;VALUE=URI:http://syracusearts.net/calendar/event.cfm?PerfID=156017
END:VEVENT
END:VCALENDAR